BEGIN:VCALENDAR
VERSION:2.0
PRODID:-//文化馬祖 - ECPv6.0.0.1//NONSGML v1.0//EN
CALSCALE:GREGORIAN
METHOD:PUBLISH
X-ORIGINAL-URL:https://matsucc.gov.tw
X-WR-CALDESC:Events for 文化馬祖
REFRESH-INTERVAL;VALUE=DURATION:PT1H
X-Robots-Tag:noindex
X-PUBLISHED-TTL:PT1H
BEGIN:VTIMEZONE
TZID:Asia/Taipei
BEGIN:STANDARD
TZOFFSETFROM:+0800
TZOFFSETTO:+0800
TZNAME:CST
DTSTART:20210101T000000
END:STANDARD
END:VTIMEZONE
BEGIN:VEVENT
DTSTART;TZID=Asia/Taipei:20210912T090000
DTEND;TZID=Asia/Taipei:20210912T130000
DTSTAMP:20260423T084729
CREATED:20210906T073248Z
LAST-MODIFIED:20210906T073248Z
UID:5365-1631437200-1631451600@matsucc.gov.tw
SUMMARY:連江縣古蹟日計畫：鐵板燒塔節系列活動-閩東式建築寫生活動NO.1
DESCRIPTION:連江縣古蹟日計畫：鐵板燒塔節系列活動-閩東式建築寫生活動NO.1 \n時間:110年09月12日09:00-13:00 \n地點:南竿牛角村
URL:https://matsucc.gov.tw/event/%e9%80%a3%e6%b1%9f%e7%b8%a3%e5%8f%a4%e8%b9%9f%e6%97%a5%e8%a8%88%e7%95%ab%ef%bc%9a%e9%90%b5%e6%9d%bf%e7%87%92%e5%a1%94%e7%af%80%e7%b3%bb%e5%88%97%e6%b4%bb%e5%8b%95-%e9%96%a9%e6%9d%b1%e5%bc%8f%e5%bb%ba/
END:VEVENT
BEGIN:VEVENT
DTSTART;TZID=Asia/Taipei:20210919T130000
DTEND;TZID=Asia/Taipei:20210919T170000
DTSTAMP:20260423T084729
CREATED:20210906T073745Z
LAST-MODIFIED:20210906T073745Z
UID:5369-1632056400-1632070800@matsucc.gov.tw
SUMMARY:連江縣古蹟日計畫：鐵板燒塔節系列活動-馬祖故事屋NO.1
DESCRIPTION:連江縣古蹟日計畫：鐵板燒塔節系列活動-馬祖故事屋NO.1 \n時間:110年09月19日13:00-17:00 \n地點:仁愛村馬祖享宿民宿
URL:https://matsucc.gov.tw/event/%e9%80%a3%e6%b1%9f%e7%b8%a3%e5%8f%a4%e8%b9%9f%e6%97%a5%e8%a8%88%e7%95%ab%ef%bc%9a%e9%90%b5%e6%9d%bf%e7%87%92%e5%a1%94%e7%af%80%e7%b3%bb%e5%88%97%e6%b4%bb%e5%8b%95-%e9%a6%ac%e7%a5%96%e6%95%85%e4%ba%8b/
END:VEVENT
BEGIN:VEVENT
DTSTART;TZID=Asia/Taipei:20210920T090000
DTEND;TZID=Asia/Taipei:20210920T130000
DTSTAMP:20260423T084729
CREATED:20210906T074025Z
LAST-MODIFIED:20210906T074026Z
UID:5371-1632128400-1632142800@matsucc.gov.tw
SUMMARY:連江縣古蹟日計畫：鐵板燒塔節系列活動-閩東式建築寫生活動NO.2
DESCRIPTION:連江縣古蹟日計畫：鐵板燒塔節系列活動-閩東式建築寫生活動NO.2 \n時間:110年09月20日09:00-13:00 \n地點:南竿鄉津沙村
URL:https://matsucc.gov.tw/event/%e9%80%a3%e6%b1%9f%e7%b8%a3%e5%8f%a4%e8%b9%9f%e6%97%a5%e8%a8%88%e7%95%ab%ef%bc%9a%e9%90%b5%e6%9d%bf%e7%87%92%e5%a1%94%e7%af%80%e7%b3%bb%e5%88%97%e6%b4%bb%e5%8b%95-%e9%96%a9%e6%9d%b1%e5%bc%8f-2/
END:VEVENT
BEGIN:VEVENT
DTSTART;TZID=Asia/Taipei:20210925T130000
DTEND;TZID=Asia/Taipei:20210925T170000
DTSTAMP:20260423T084729
CREATED:20210906T074256Z
LAST-MODIFIED:20210906T074256Z
UID:5374-1632574800-1632589200@matsucc.gov.tw
SUMMARY:連江縣古蹟日計畫：鐵板燒塔節系列活動-馬祖故事屋NO.2
DESCRIPTION:連江縣古蹟日計畫：鐵板燒塔節系列活動-馬祖故事屋NO.2 \n時間:110年09月25日13:00-17:00 \n地點:仁愛村馬祖享宿民宿 \n \n 
URL:https://matsucc.gov.tw/event/%e9%80%a3%e6%b1%9f%e7%b8%a3%e5%8f%a4%e8%b9%9f%e6%97%a5%e8%a8%88%e7%95%ab%ef%bc%9a%e9%90%b5%e6%9d%bf%e7%87%92%e5%a1%94%e7%af%80%e7%b3%bb%e5%88%97%e6%b4%bb%e5%8b%95-%e9%a6%ac%e7%a5%96%e6%95%85-2/
END:VEVENT
BEGIN:VEVENT
DTSTART;TZID=Asia/Taipei:20210925T133000
DTEND;TZID=Asia/Taipei:20210925T163000
DTSTAMP:20260423T084729
CREATED:20210923T080511Z
LAST-MODIFIED:20210923T080511Z
UID:5414-1632576600-1632587400@matsucc.gov.tw
SUMMARY:連江縣古蹟日：牛角做出幼系列活動-剪花藝術研習
DESCRIPTION:連江縣古蹟日：牛角做出幼系列活動-剪花藝術研習 \n時間：110年9月25日 13:30-16:30 \n地點：五靈公廟活動中心
URL:https://matsucc.gov.tw/event/%e9%80%a3%e6%b1%9f%e7%b8%a3%e5%8f%a4%e8%b9%9f%e6%97%a5%ef%bc%9a%e7%89%9b%e8%a7%92%e5%81%9a%e5%87%ba%e5%b9%bc%e7%b3%bb%e5%88%97%e6%b4%bb%e5%8b%95-%e5%89%aa%e8%8a%b1%e8%97%9d%e8%a1%93%e7%a0%94%e7%bf%92/
END:VEVENT
BEGIN:VEVENT
DTSTART;TZID=Asia/Taipei:20210928T183000
DTEND;TZID=Asia/Taipei:20210928T213000
DTSTAMP:20260423T084729
CREATED:20210923T080932Z
LAST-MODIFIED:20210923T080932Z
UID:5417-1632853800-1632864600@matsucc.gov.tw
SUMMARY:連江縣古蹟日：牛角做出幼系列活動－喜娘說唱藝術喝采研習
DESCRIPTION:連江縣古蹟日：牛角做出幼系列活動-喜娘說唱藝術喝采研習 \n時間：110年9月28日-110年9月29日 18:30-21:30 \n地點：五靈公廟活動中心
URL:https://matsucc.gov.tw/event/%e9%80%a3%e6%b1%9f%e7%b8%a3%e5%8f%a4%e8%b9%9f%e6%97%a5%ef%bc%9a%e7%89%9b%e8%a7%92%e5%81%9a%e5%87%ba%e5%b9%bc%e7%b3%bb%e5%88%97%e6%b4%bb%e5%8b%95%ef%bc%8d%e5%96%9c%e5%a8%98%e8%aa%aa%e5%94%b1%e8%97%9d/
END:VEVENT
BEGIN:VEVENT
DTSTART;TZID=Asia/Taipei:20210929T183000
DTEND;TZID=Asia/Taipei:20210929T213000
DTSTAMP:20260423T084729
CREATED:20210923T081201Z
LAST-MODIFIED:20210923T081201Z
UID:5419-1632940200-1632951000@matsucc.gov.tw
SUMMARY:連江縣古蹟日：牛角做出幼系列活動-喜娘說唱藝術喝采研習
DESCRIPTION:連江縣古蹟日：牛角做出幼系列活動-喜娘說唱藝術喝采研習 \n時間：110年9月28日-110年9月29日 18:30-21:30 \n地點：五靈公廟活動中心
URL:https://matsucc.gov.tw/event/%e9%80%a3%e6%b1%9f%e7%b8%a3%e5%8f%a4%e8%b9%9f%e6%97%a5%ef%bc%9a%e7%89%9b%e8%a7%92%e5%81%9a%e5%87%ba%e5%b9%bc%e7%b3%bb%e5%88%97%e6%b4%bb%e5%8b%95-%e5%96%9c%e5%a8%98%e8%aa%aa%e5%94%b1%e8%97%9d%e8%a1%93/
END:VEVENT
END:VCALENDAR