BEGIN:VCALENDAR
VERSION:2.0
PRODID:-//文化馬祖 - ECPv6.0.0.1//NONSGML v1.0//EN
CALSCALE:GREGORIAN
METHOD:PUBLISH
X-ORIGINAL-URL:https://matsucc.gov.tw
X-WR-CALDESC:Events for 文化馬祖
REFRESH-INTERVAL;VALUE=DURATION:PT1H
X-Robots-Tag:noindex
X-PUBLISHED-TTL:PT1H
BEGIN:VTIMEZONE
TZID:Asia/Taipei
BEGIN:STANDARD
TZOFFSETFROM:+0800
TZOFFSETTO:+0800
TZNAME:CST
DTSTART:20210101T000000
END:STANDARD
END:VTIMEZONE
BEGIN:VEVENT
DTSTART;TZID=Asia/Taipei:20210501T190000
DTEND;TZID=Asia/Taipei:20210501T210000
DTSTAMP:20260423T141142
CREATED:20210426T021709Z
LAST-MODIFIED:20210520T062726Z
UID:4896-1619895600-1619902800@matsucc.gov.tw
SUMMARY:春天微光-幼獅管樂團:「春之微光-牛年牪犇」音樂會
DESCRIPTION:春天微光-幼獅管樂團:「春之微光-牛年牪犇」音樂會 \n05月01日(六) 10:00  南竿-北海坑道快閃演出 \n05月01日(六)  19:00  南竿-民俗文物館環形劇場 \n05月02日(日)  10:00  北竿-芹壁聚落快閃演出 \n演出團隊介紹: \n幼獅管樂團成立於1977年5月，以培養青年管樂人才，推廣音樂活動，帶動愛樂風氣，美化社會為宗旨。指揮先後由張大勝教授、陳澄雄教授、郭聯昌教授擔任，目前由葉樹涵教授擔任。 \n110年5月1日(六)19:00南竿-民俗文物館環形劇場演出人員及曲目: \n演出團隊∣幼獅管樂團 指揮∣葉樹涵 \n\n約翰·威廉斯：牛仔(編曲：吉姆·柯諾)\n安東尼·迪羅倫佐：小牛仔 長號∣宋光清\n安邦：威尼斯狂歡節 (編曲：埃里克·萊格森) 小號∣陳軒閎\n伯恩斯坦：豪勇七蛟龍(編曲：蒂埃里·穆勒)\n拉瑞：格拉納達 薩克斯風∣黃靖娟\n傑羅姆·莫羅斯：＜錦繡大地＞主題曲（編曲：李翰威）\n杰·利文斯頓/雷蒙·艾文斯：＜班尼沙＞主題曲(編曲：諾曼·泰勒/馬賽爾·索勒)\n達格斯蘭：米開朗基羅（編曲：雷達蘭） 上低音號∣林宸妤\n顏尼歐·莫利克奈：黃昏三鏢客(編曲：泰德·帕森)\n阿佛瑞·呂德：王者之道\n\n  \n指導單位∣文化部、交通部觀光局、連江縣議會、立法委員陳雪生國會辦公室 \n主辦單位∣連江縣政府 \n協辦單位∣馬祖國家風景區管理處、馬祖連江航業有限公司、新華航業股份有限公司 \n演出單位∣幼獅管樂團、拾翠坊崑劇團、國立臺灣交響樂團
URL:https://matsucc.gov.tw/event/%e6%98%a5%e4%b9%8b%e5%be%ae%e5%85%89-%e8%91%89%e6%a8%b9%e6%b6%b5%e9%8a%85%e7%ae%a1%e8%a1%a8%e6%bc%94/
LOCATION:南竿民俗文物館環形劇場
ATTACH;FMTTYPE=image/jpeg:https://matsucc.gov.tw/wp-content/uploads/2021/04/110.5.1牛年牪犇-音樂會DM.jpg
END:VEVENT
BEGIN:VEVENT
DTSTART;TZID=Asia/Taipei:20210511T190000
DTEND;TZID=Asia/Taipei:20210511T210000
DTSTAMP:20260423T141142
CREATED:20210520T055447Z
LAST-MODIFIED:20210520T062316Z
UID:4933-1620759600-1620766800@matsucc.gov.tw
SUMMARY:春天微光-拾翠坊崑劇團:「杜麗娘跳島去遊園」
DESCRIPTION:拾翠坊崑劇團:「杜麗娘跳島去遊園」馬祖場次 \n110年05月11日(二)19:00南竿-民俗文物館演藝廳演出人員及內容: \n演出團隊∣拾翠坊崑劇團 演出人員∣林宜貞、王于菁、張哲綸 \n演出∣崑曲經典《牡丹亭˙遊園》 \n體驗課程∣容裝示範、曲詞導讀、互動體驗 \n◎體驗課程報名時間截止日：110年05月07日(五)17:00 \n◎體驗課程報名電話:0836-22393分機110 及108 李小姐及沈俊杰 \n  \n演出團隊介紹: \n集結眾多優秀的專業曲友、秉持高度的傳承和表演理念，拾翠坊自2016年成立以來，即致力於崑曲的教學與推廣、傳統崑曲劇目的展演。拾翠坊的主要成員是1991~2000年間「崑曲傳習計畫」的藝生及學員，在當時得到中國大陸各大崑劇團國寶級大師的親授指導；接受大師們的薰陶，加上累積豐厚的教學經驗、歷經各種大大小小演出的磨練，這群優秀的曲友一路以來不斷地反芻精進，而今已然是成熟的表演者和教師，是台灣崑曲曲友的中流砥柱。 \n  \n指導單位∣文化部、交通部觀光局、連江縣議會、立法委員陳雪生國會辦公室 \n主辦單位∣連江縣政府 \n協辦單位∣馬祖國家風景區管理處、馬祖連江航業有限公司、新華航業股份有限公司 \n演出單位∣幼獅管樂團、拾翠坊崑劇團、國立臺灣交響樂團 \n  \n  \n 
URL:https://matsucc.gov.tw/event/%e6%98%a5%e5%a4%a9%e5%be%ae%e5%85%89-%e6%8b%be%e7%bf%a0%e5%9d%8a%e5%b4%91%e5%8a%87%e5%9c%98%e3%80%8c%e6%9d%9c%e9%ba%97%e5%a8%98%e8%b7%b3%e5%b3%b6%e5%8e%bb%e9%81%8a%e5%9c%92%e3%80%8d/
LOCATION:南竿-民俗文物館演藝廳
ATTACH;FMTTYPE=image/jpeg:https://matsucc.gov.tw/wp-content/uploads/2021/05/110.5.11杜麗娘跳島去遊園DM.jpg
END:VEVENT
BEGIN:VEVENT
DTSTART;TZID=Asia/Taipei:20210515T163000
DTEND;TZID=Asia/Taipei:20210516T170000
DTSTAMP:20260423T141142
CREATED:20210520T063637Z
LAST-MODIFIED:20210909T012605Z
UID:4942-1621096200-1621184400@matsucc.gov.tw
SUMMARY:【活動取消】春天微光-國立臺灣交響樂團:「2021遍撒音樂種子在社區室內樂經典」音樂會
DESCRIPTION:【活動取消】春天微光-國立臺灣交響樂團:「2021遍撒音樂種子在社區室內樂經典」音樂會 \n110年05月15日(六)16:30於東引-中路 \n110年05月16日(日)16:30於莒光-山海一家 \n演出團隊∣NTSO台灣青年交響樂團-木管5重奏 \n演出人員∣鍾安琪、潘欣玫、張欣茹、劉琬心、歐易欣 \n演出團隊介紹: \n國立臺灣交響樂團創立於民國34年，為臺灣歷史最悠久的交響樂團。成立之初，先後隸屬於臺灣省警備總司令部、臺灣省藝術建設協會、臺灣省政府教育廳及文化處等單位。88年7月改隸行政院文化建設委員會，更名為「國立臺灣交響樂團」； 101年5月改隸文化部。團址座落於臺中霧峰，有專屬音樂廳、大小排練室，是擁有完整軟硬體的全方位音樂團體。在臺灣古典音樂的發展過程中，國立臺灣交響樂團一直扮演著極為重要的關鍵性角色。108年起，國際知名音樂家水藍先生再度受邀擔任本團首席客席指揮，與劉團長共同合作，推動國立臺灣交響樂團「精進技藝、傳統創新、教育扎根、美學推廣」的任務，提昇全民音樂生活，讓音樂就如同空氣、水、陽光一般的在你我身邊。 \n  \n指導單位∣文化部、交通部觀光局、連江縣議會、立法委員陳雪生國會辦公室 \n主辦單位∣連江縣政府 \n協辦單位∣馬祖國家風景區管理處、馬祖連江航業有限公司、新華航業股份有限公司 \n演出單位∣幼獅管樂團、拾翠坊崑劇團、國立臺灣交響樂團
URL:https://matsucc.gov.tw/event/%e3%80%90%e6%b4%bb%e5%8b%95%e5%bb%b6%e6%9c%9f%e3%80%91%e6%98%a5%e5%a4%a9%e5%be%ae%e5%85%89-%e5%9c%8b%e7%ab%8b%e8%87%ba%e7%81%a3%e4%ba%a4%e9%9f%bf%e6%a8%82%e5%9c%98%e3%80%8c2021%e9%81%8d%e6%92%92/
END:VEVENT
END:VCALENDAR