BEGIN:VCALENDAR
VERSION:2.0
PRODID:-//文化馬祖 - ECPv6.0.0.1//NONSGML v1.0//EN
CALSCALE:GREGORIAN
METHOD:PUBLISH
X-ORIGINAL-URL:https://matsucc.gov.tw
X-WR-CALDESC:Events for 文化馬祖
REFRESH-INTERVAL;VALUE=DURATION:PT1H
X-Robots-Tag:noindex
X-PUBLISHED-TTL:PT1H
BEGIN:VTIMEZONE
TZID:Asia/Taipei
BEGIN:STANDARD
TZOFFSETFROM:+0800
TZOFFSETTO:+0800
TZNAME:CST
DTSTART:20210101T000000
END:STANDARD
END:VTIMEZONE
BEGIN:VEVENT
DTSTART;TZID=Asia/Taipei:20211106T090000
DTEND;TZID=Asia/Taipei:20211106T170000
DTSTAMP:20260423T072805
CREATED:20211102T084431Z
LAST-MODIFIED:20211102T084431Z
UID:6146-1636189200-1636218000@matsucc.gov.tw
SUMMARY:連江縣110年考古遺址教育推廣課程-大坵地底下的歷史
DESCRIPTION:110年考古遺址教育推廣課程-大坵地底下的歷史 \n預計辦理時間:110年11月6日 \n報名方式:採線上報名
URL:https://matsucc.gov.tw/event/%e9%80%a3%e6%b1%9f%e7%b8%a3110%e5%b9%b4%e8%80%83%e5%8f%a4%e9%81%ba%e5%9d%80%e6%95%99%e8%82%b2%e6%8e%a8%e5%bb%a3%e8%aa%b2%e7%a8%8b-%e5%a4%a7%e5%9d%b5%e5%9c%b0%e5%ba%95%e4%b8%8b%e7%9a%84%e6%ad%b7/
END:VEVENT
END:VCALENDAR