BEGIN:VCALENDAR
VERSION:2.0
PRODID:-//文化馬祖 - ECPv6.0.0.1//NONSGML v1.0//EN
CALSCALE:GREGORIAN
METHOD:PUBLISH
X-ORIGINAL-URL:https://matsucc.gov.tw
X-WR-CALDESC:Events for 文化馬祖
REFRESH-INTERVAL;VALUE=DURATION:PT1H
X-Robots-Tag:noindex
X-PUBLISHED-TTL:PT1H
BEGIN:VTIMEZONE
TZID:Asia/Taipei
BEGIN:STANDARD
TZOFFSETFROM:+0800
TZOFFSETTO:+0800
TZNAME:CST
DTSTART:20210101T000000
END:STANDARD
END:VTIMEZONE
BEGIN:VEVENT
DTSTART;VALUE=DATE:20211014
DTEND;VALUE=DATE:20211017
DTSTAMP:20260423T084612
CREATED:20211013T024944Z
LAST-MODIFIED:20211013T024944Z
UID:6116-1634169600-1634428799@matsucc.gov.tw
SUMMARY:2021 馬祖秋慶 「媽祖在馬祖昇天祭」
DESCRIPTION:10月14日\n09:00-11:30\n祭祀大典暨坑道祈福\n11:30-12:00\n媽祖大符版畫藝術展開展揭牌\n14:00-16:00\n聖母駐符-版畫藝術體驗活動 \n10月15日\n09:00-17:00\n媽祖大符版畫藝術展\n10:00-16:00\n聖母駐符-版畫藝術體驗活動\n17:00-19:00\n媽祖祈福園遊會\n19:00-21:00\n天上聖母舞臺劇 \n10月16日\n09:00-17:00\n媽祖大符版畫藝術展\n10:00-17:00\n聖母駐符-版畫藝術體驗活動\n15:00-19:00\n媽祖祈福園遊會\n馬祖陣協X馬戲之門\n天馬劇團東方特技秀\n一元福袋競標\n抽獎活動線上直播(文化馬祖)
URL:https://matsucc.gov.tw/event/2021-%e9%a6%ac%e7%a5%96%e7%a7%8b%e6%85%b6-%e3%80%8c%e5%aa%bd%e7%a5%96%e5%9c%a8%e9%a6%ac%e7%a5%96%e6%98%87%e5%a4%a9%e7%a5%ad%e3%80%8d/
END:VEVENT
END:VCALENDAR