BEGIN:VCALENDAR
VERSION:2.0
PRODID:-//文化馬祖 - ECPv6.0.0.1//NONSGML v1.0//EN
CALSCALE:GREGORIAN
METHOD:PUBLISH
X-WR-CALNAME:文化馬祖
X-ORIGINAL-URL:https://matsucc.gov.tw
X-WR-CALDESC:Events for 文化馬祖
REFRESH-INTERVAL;VALUE=DURATION:PT1H
X-Robots-Tag:noindex
X-PUBLISHED-TTL:PT1H
BEGIN:VTIMEZONE
TZID:Asia/Taipei
BEGIN:STANDARD
TZOFFSETFROM:+0800
TZOFFSETTO:+0800
TZNAME:CST
DTSTART:20210101T000000
END:STANDARD
END:VTIMEZONE
BEGIN:VEVENT
DTSTART;TZID=Asia/Taipei:20211002T190000
DTEND;TZID=Asia/Taipei:20211002T213000
DTSTAMP:20260423T084521
CREATED:20210923T081431Z
LAST-MODIFIED:20210923T081517Z
UID:5422-1633201200-1633210200@matsucc.gov.tw
SUMMARY:連江縣古蹟日：牛角做出幼系列活動-紅斗研習工作坊
DESCRIPTION:連江縣古蹟日：牛角做出幼系列活動-紅斗研習工作坊 \n時間：110年10月2日 19:00-21:30 \n地點：五靈公廟活動中心
URL:https://matsucc.gov.tw/event/5422/
END:VEVENT
END:VCALENDAR