BEGIN:VCALENDAR
VERSION:2.0
PRODID:-//文化馬祖 - ECPv6.0.0.1//NONSGML v1.0//EN
CALSCALE:GREGORIAN
METHOD:PUBLISH
X-ORIGINAL-URL:https://matsucc.gov.tw
X-WR-CALDESC:Events for 文化馬祖
REFRESH-INTERVAL;VALUE=DURATION:PT1H
X-Robots-Tag:noindex
X-PUBLISHED-TTL:PT1H
BEGIN:VTIMEZONE
TZID:Asia/Taipei
BEGIN:STANDARD
TZOFFSETFROM:+0800
TZOFFSETTO:+0800
TZNAME:CST
DTSTART:20210101T000000
END:STANDARD
END:VTIMEZONE
BEGIN:VEVENT
DTSTART;TZID=Asia/Taipei:20210929T183000
DTEND;TZID=Asia/Taipei:20210929T213000
DTSTAMP:20260423T084652
CREATED:20210923T081201Z
LAST-MODIFIED:20210923T081201Z
UID:5419-1632940200-1632951000@matsucc.gov.tw
SUMMARY:連江縣古蹟日：牛角做出幼系列活動-喜娘說唱藝術喝采研習
DESCRIPTION:連江縣古蹟日：牛角做出幼系列活動-喜娘說唱藝術喝采研習 \n時間：110年9月28日-110年9月29日 18:30-21:30 \n地點：五靈公廟活動中心
URL:https://matsucc.gov.tw/event/%e9%80%a3%e6%b1%9f%e7%b8%a3%e5%8f%a4%e8%b9%9f%e6%97%a5%ef%bc%9a%e7%89%9b%e8%a7%92%e5%81%9a%e5%87%ba%e5%b9%bc%e7%b3%bb%e5%88%97%e6%b4%bb%e5%8b%95-%e5%96%9c%e5%a8%98%e8%aa%aa%e5%94%b1%e8%97%9d%e8%a1%93/
END:VEVENT
END:VCALENDAR