BEGIN:VCALENDAR
VERSION:2.0
PRODID:-//文化馬祖 - ECPv6.0.0.1//NONSGML v1.0//EN
CALSCALE:GREGORIAN
METHOD:PUBLISH
X-WR-CALNAME:文化馬祖
X-ORIGINAL-URL:https://matsucc.gov.tw
X-WR-CALDESC:Events for 文化馬祖
REFRESH-INTERVAL;VALUE=DURATION:PT1H
X-Robots-Tag:noindex
X-PUBLISHED-TTL:PT1H
BEGIN:VTIMEZONE
TZID:Asia/Taipei
BEGIN:STANDARD
TZOFFSETFROM:+0800
TZOFFSETTO:+0800
TZNAME:CST
DTSTART:20210101T000000
END:STANDARD
END:VTIMEZONE
BEGIN:VEVENT
DTSTART;VALUE=DATE:20210716
DTEND;VALUE=DATE:20210717
DTSTAMP:20260423T125724
CREATED:20210716T060629Z
LAST-MODIFIED:20210716T064612Z
UID:5218-1626393600-1626479999@matsucc.gov.tw
SUMMARY:「藏水覓趣-水下文化資產多媒體互動展」文物館正式亮相囉~
DESCRIPTION:因應疫情 炎炎夏日  \n小朋友疫情關在家是否悶壞了呢~ \n別忘了\n還有冷氣直送\n文物館這個好去處喔  \n而且 而且 而且\n文物館 展區更新了~\n煥然一新的一樓島嶼地誌常設展\n詳情請參考馬祖日報報導~\nhttps://www.matsu-news.gov.tw/2010web/news_detail_101.php?CMD=open&UID=233692 \nhttps://www.matsu-news.gov.tw/2010web/news_detail_101.php?CMD=open&UID=233693 \n還有 還有 還有 \n這次暑期特展強檔\n推出「藏水覓趣-水下文化資產多媒體互動特展」\n透過小朋友最喜歡的多媒體\n了解目前我們台灣\n列冊的六艘沈船及文物\n其中一艘蘇布倫號\n是在東引附近的沈船\n也因為蘇布倫號的沉沒\n加速了東湧燈塔的建立\n展區互動影片請參考喔~\n趕快點選表單 預約參觀吧~~~~\n預約表單 在這裡\nhttps://forms.gle/fpzj9JTMQ2WLYhqa7 \n預約的同時\n也請參考表單內的疫情參觀規範唷
URL:https://matsucc.gov.tw/event/%e3%80%8c%e8%97%8f%e6%b0%b4%e8%a6%93%e8%b6%a3-%e6%b0%b4%e4%b8%8b%e6%96%87%e5%8c%96%e8%b3%87%e7%94%a2%e5%a4%9a%e5%aa%92%e9%ab%94%e4%ba%92%e5%8b%95%e5%b1%95%e3%80%8d%e6%96%87%e7%89%a9%e9%a4%a8%e6%ad%a3/
END:VEVENT
END:VCALENDAR